BEGIN:VCALENDAR
VERSION:2.0
PRODID:Events Booking
BEGIN:VEVENT
UID:69eb308974f04
SUMMARY:MFNO Durham Region Thank You BBQ
DESCRIPTION:**** PLEASE NOTE THE DATE CHANGE TO SUNDAY the 4TH***
 MFNO is
  excited to host our first Thank You BBQ in the Durham Region.&nbsp\;
 Th
 is event posting is for invites to register their acceptance to attend so 
 that we can have an accurate account of how many will be attending.
LOCATION:108 Greenfield Cres
DTSTART:20230604T170000Z
DTEND:20230604T200000Z
DTSTAMP:20230524T191308Z
ORGANIZER;CN=MRNO:MAILTO:info@mfno.org
GEO:43.8854;78.90735
X-APPLE-STRUCTURED-LOCATION;VALUE=URI;X-ADDRESS=108 Greenfield Cres;X-APPLE
 -RADIUS=72;X-TITLE=Whitby House:43.8854;78.90735
END:VEVENT
END:VCALENDAR